Package: NTW Version: 1.58.0 Command: /home/biocbuild/R/R/bin/R CMD build --keep-empty-dirs --no-resave-data NTW StartedAt: 2025-10-14 03:06:52 -0000 (Tue, 14 Oct 2025) EndedAt: 2025-10-14 03:07:12 -0000 (Tue, 14 Oct 2025) EllapsedTime: 20.0 seconds RetCode: 0 Status: OK PackageFile: NTW_1.58.0.tar.gz PackageFileSize: 860.1 KiB