Package: NTW Version: 1.58.0 Command: /Library/Frameworks/R.framework/Resources/bin/R CMD INSTALL NTW StartedAt: 2025-10-13 15:14:31 -0400 (Mon, 13 Oct 2025) EndedAt: 2025-10-13 15:14:37 -0400 (Mon, 13 Oct 2025) EllapsedTime: 6.9 seconds RetCode: 0 Status: OK