Package: NTW Version: 1.58.0 Command: /Library/Frameworks/R.framework/Resources/bin/R CMD check --install=check:NTW.install-out.txt --library=/Library/Frameworks/R.framework/Resources/library --no-vignettes --timings NTW_1.58.0.tar.gz StartedAt: 2025-10-15 06:07:30 -0400 (Wed, 15 Oct 2025) EndedAt: 2025-10-15 06:08:02 -0400 (Wed, 15 Oct 2025) EllapsedTime: 31.7 seconds RetCode: 0 Status: WARNINGS CheckDir: NTW.Rcheck Warnings: 1