Package: NTW Version: 1.58.0 Maintainer: Yuanhua Liu MaintainerEmail: liuyuanhua at picb.ac.cn git_url: https://git.bioconductor.org/packages/NTW git_branch: RELEASE_3_21 git_last_commit: c68d2de git_last_commit_date: 2025-04-15 09:59:59 -0400 (Tue, 15 Apr 2025)