Package: NPARC Version: 1.20.0 Command: /Library/Frameworks/R.framework/Resources/bin/R CMD build --keep-empty-dirs --no-resave-data NPARC StartedAt: 2025-10-13 21:10:39 -0400 (Mon, 13 Oct 2025) EndedAt: 2025-10-13 21:19:19 -0400 (Mon, 13 Oct 2025) EllapsedTime: 519.9 seconds RetCode: 0 Status: OK PackageFile: NPARC_1.20.0.tar.gz PackageFileSize: 2.305 MiB