Package: NPARC Version: 1.20.0 Command: rm -rf NPARC.buildbin-libdir && mkdir NPARC.buildbin-libdir && /Users/biocbuild/BBS/utils/build-universal.sh NPARC_1.20.0.tar.gz /Library/Frameworks/R.framework/Resources/bin/R NPARC.buildbin-libdir StartedAt: 2025-10-14 14:16:36 -0400 (Tue, 14 Oct 2025) EndedAt: 2025-10-14 14:16:52 -0400 (Tue, 14 Oct 2025) EllapsedTime: 16.6 seconds RetCode: 0 Status: OK PackageFile: NPARC_1.20.0.tgz PackageFileSize: 2.5 MiB