Package: NBAMSeq Version: 1.24.1 Command: E:\biocbuild\bbs-3.21-bioc\R\bin\R.exe CMD INSTALL NBAMSeq StartedAt: 2025-08-14 16:40:52 -0400 (Thu, 14 Aug 2025) EndedAt: 2025-08-14 16:41:33 -0400 (Thu, 14 Aug 2025) EllapsedTime: 40.8 seconds RetCode: 0 Status: OK