Package: NBAMSeq Version: 1.24.1 Command: chmod a+r NBAMSeq -R && E:\biocbuild\bbs-3.21-bioc\R\bin\R.exe CMD build --keep-empty-dirs --no-resave-data NBAMSeq StartedAt: 2025-08-14 20:50:02 -0400 (Thu, 14 Aug 2025) EndedAt: 2025-08-14 20:51:47 -0400 (Thu, 14 Aug 2025) EllapsedTime: 104.5 seconds RetCode: 0 Status: OK PackageFile: NBAMSeq_1.24.1.tar.gz PackageFileSize: 242 KiB