Package: NADfinder Version: 1.32.0 Command: /Library/Frameworks/R.framework/Resources/bin/R CMD INSTALL NADfinder StartedAt: 2025-10-13 16:37:59 -0400 (Mon, 13 Oct 2025) EndedAt: 2025-10-13 16:40:17 -0400 (Mon, 13 Oct 2025) EllapsedTime: 137.9 seconds RetCode: 0 Status: OK