Package: NADfinder Version: 1.32.0 Command: rm -rf NADfinder.buildbin-libdir && mkdir NADfinder.buildbin-libdir && /Users/biocbuild/BBS/utils/build-universal.sh NADfinder_1.32.0.tar.gz /Library/Frameworks/R.framework/Resources/bin/R NADfinder.buildbin-libdir StartedAt: 2025-10-14 14:14:20 -0400 (Tue, 14 Oct 2025) EndedAt: 2025-10-14 14:17:26 -0400 (Tue, 14 Oct 2025) EllapsedTime: 186.2 seconds RetCode: 0 Status: OK PackageFile: NADfinder_1.32.0.tgz PackageFileSize: 6.51 MiB