Package: NADfinder Version: 1.32.0 Command: /home/biocbuild/R/R/bin/R CMD INSTALL NADfinder StartedAt: 2025-10-13 21:12:01 -0000 (Mon, 13 Oct 2025) EndedAt: 2025-10-13 21:13:38 -0000 (Mon, 13 Oct 2025) EllapsedTime: 96.5 seconds RetCode: 0 Status: OK