Package: MungeSumstats Version: 1.16.0 Command: /home/biocbuild/R/R/bin/R CMD INSTALL MungeSumstats StartedAt: 2025-10-13 20:55:57 -0000 (Mon, 13 Oct 2025) EndedAt: 2025-10-13 20:56:57 -0000 (Mon, 13 Oct 2025) EllapsedTime: 60.8 seconds RetCode: 0 Status: OK