Package: MultimodalExperiment Version: 1.8.0 Command: /home/biocbuild/R/R/bin/R CMD INSTALL MultimodalExperiment StartedAt: 2025-10-13 20:35:20 -0000 (Mon, 13 Oct 2025) EndedAt: 2025-10-13 20:36:00 -0000 (Mon, 13 Oct 2025) EllapsedTime: 40.1 seconds RetCode: 0 Status: OK