Package: MultiRNAflow Version: 1.6.0 Command: /home/biocbuild/bbs-3.21-bioc/R/bin/R CMD INSTALL MultiRNAflow StartedAt: 2025-10-01 15:24:16 -0400 (Wed, 01 Oct 2025) EndedAt: 2025-10-01 15:25:02 -0400 (Wed, 01 Oct 2025) EllapsedTime: 45.7 seconds RetCode: 0 Status: OK