Package: MultiMed Version: 2.30.0 Command: /home/biocbuild/R/R/bin/R CMD check --install=check:MultiMed.install-out.txt --library=/home/biocbuild/R/R/site-library --no-vignettes --timings MultiMed_2.30.0.tar.gz StartedAt: 2025-10-14 11:49:14 -0000 (Tue, 14 Oct 2025) EndedAt: 2025-10-14 11:49:34 -0000 (Tue, 14 Oct 2025) EllapsedTime: 20.1 seconds RetCode: 0 Status: OK CheckDir: MultiMed.Rcheck Warnings: 0