Package: MultiAssayExperiment Version: 1.34.0 Command: E:\biocbuild\bbs-3.21-bioc\R\bin\R.exe CMD INSTALL MultiAssayExperiment StartedAt: 2025-08-14 16:06:26 -0400 (Thu, 14 Aug 2025) EndedAt: 2025-08-14 16:08:24 -0400 (Thu, 14 Aug 2025) EllapsedTime: 118.4 seconds RetCode: 0 Status: OK