Package: MultiAssayExperiment Version: 1.34.0 Command: chmod a+r MultiAssayExperiment -R && E:\biocbuild\bbs-3.21-bioc\R\bin\R.exe CMD build --keep-empty-dirs --no-resave-data MultiAssayExperiment StartedAt: 2025-08-14 20:43:24 -0400 (Thu, 14 Aug 2025) EndedAt: 2025-08-14 20:45:04 -0400 (Thu, 14 Aug 2025) EllapsedTime: 99.5 seconds RetCode: 0 Status: OK PackageFile: MultiAssayExperiment_1.34.0.tar.gz PackageFileSize: 1.087 MiB