Package: MultiAssayExperiment Version: 1.34.0 Command: rm -rf MultiAssayExperiment.buildbin-libdir && mkdir MultiAssayExperiment.buildbin-libdir && E:\biocbuild\bbs-3.21-bioc\R\bin\R.exe CMD INSTALL --build --library=MultiAssayExperiment.buildbin-libdir MultiAssayExperiment_1.34.0.tar.gz StartedAt: 2025-08-15 09:48:00 -0400 (Fri, 15 Aug 2025) EndedAt: 2025-08-15 10:02:25 -0400 (Fri, 15 Aug 2025) EllapsedTime: 864.8 seconds RetCode: 0 Status: OK PackageFile: MultiAssayExperiment_1.34.0.zip PackageFileSize: 2.024 MiB