Package: Mulcom Version: 1.58.0 Command: /home/biocbuild/bbs-3.21-bioc/R/bin/R CMD build --keep-empty-dirs --no-resave-data Mulcom StartedAt: 2025-10-01 18:49:57 -0400 (Wed, 01 Oct 2025) EndedAt: 2025-10-01 18:49:58 -0400 (Wed, 01 Oct 2025) EllapsedTime: 1.0 seconds RetCode: 0 Status: OK PackageFile: Mulcom_1.58.0.tar.gz PackageFileSize: 1.095 MiB