Package: Mulcom Version: 1.58.0 Command: /home/biocbuild/R/R/bin/R CMD check --install=check:Mulcom.install-out.txt --library=/home/biocbuild/R/R/site-library --no-vignettes --timings Mulcom_1.58.0.tar.gz StartedAt: 2025-09-30 12:14:10 -0000 (Tue, 30 Sep 2025) EndedAt: 2025-09-30 12:15:20 -0000 (Tue, 30 Sep 2025) EllapsedTime: 70.0 seconds RetCode: 0 Status: WARNINGS CheckDir: Mulcom.Rcheck Warnings: 1