Package: Mulcom Version: 1.58.0 Command: /Library/Frameworks/R.framework/Resources/bin/R CMD INSTALL Mulcom StartedAt: 2025-10-09 15:38:42 -0400 (Thu, 09 Oct 2025) EndedAt: 2025-10-09 15:38:51 -0400 (Thu, 09 Oct 2025) EllapsedTime: 9.4 seconds RetCode: 0 Status: OK