Package: Mulcom Version: 1.58.0 Command: /Library/Frameworks/R.framework/Resources/bin/R CMD check --install=check:Mulcom.install-out.txt --library=/Library/Frameworks/R.framework/Resources/library --no-vignettes --timings Mulcom_1.58.0.tar.gz StartedAt: 2025-10-11 06:33:15 -0400 (Sat, 11 Oct 2025) EndedAt: 2025-10-11 06:34:29 -0400 (Sat, 11 Oct 2025) EllapsedTime: 73.4 seconds RetCode: 0 Status: WARNINGS CheckDir: Mulcom.Rcheck Warnings: 1