Package: Mulcom Version: 1.58.0 Command: /Library/Frameworks/R.framework/Resources/bin/R CMD build --keep-empty-dirs --no-resave-data Mulcom StartedAt: 2025-10-10 05:33:30 -0400 (Fri, 10 Oct 2025) EndedAt: 2025-10-10 05:33:32 -0400 (Fri, 10 Oct 2025) EllapsedTime: 2.3 seconds RetCode: 0 Status: OK PackageFile: Mulcom_1.58.0.tar.gz PackageFileSize: 1.095 MiB