Package: MsQuality Version: 1.8.3 Command: /Library/Frameworks/R.framework/Resources/bin/R CMD check --install=check:MsQuality.install-out.txt --library=/Library/Frameworks/R.framework/Resources/library --no-vignettes --timings MsQuality_1.8.3.tar.gz StartedAt: 2025-10-14 07:07:51 -0400 (Tue, 14 Oct 2025) EndedAt: 2025-10-14 07:20:25 -0400 (Tue, 14 Oct 2025) EllapsedTime: 753.6 seconds RetCode: 0 Status: OK CheckDir: MsQuality.Rcheck Warnings: 0