Package: MsQuality Version: 1.8.3 Command: rm -rf MsQuality.buildbin-libdir && mkdir MsQuality.buildbin-libdir && /Users/biocbuild/BBS/utils/build-universal.sh MsQuality_1.8.3.tar.gz /Library/Frameworks/R.framework/Resources/bin/R MsQuality.buildbin-libdir StartedAt: 2025-10-14 14:11:29 -0400 (Tue, 14 Oct 2025) EndedAt: 2025-10-14 14:13:22 -0400 (Tue, 14 Oct 2025) EllapsedTime: 112.8 seconds RetCode: 0 Status: OK PackageFile: MsQuality_1.8.3.tgz PackageFileSize: 4.383 MiB