Package: MsFeatures Version: 1.16.0 Command: rm -rf MsFeatures.buildbin-libdir && mkdir MsFeatures.buildbin-libdir && /Users/biocbuild/BBS/utils/build-universal.sh MsFeatures_1.16.0.tar.gz /Library/Frameworks/R.framework/Resources/bin/R MsFeatures.buildbin-libdir StartedAt: 2025-10-14 14:10:46 -0400 (Tue, 14 Oct 2025) EndedAt: 2025-10-14 14:11:51 -0400 (Tue, 14 Oct 2025) EllapsedTime: 64.5 seconds RetCode: 0 Status: OK PackageFile: MsFeatures_1.16.0.tgz PackageFileSize: 1.26 MiB