Package: MsFeatures Version: 1.16.0 Command: /Library/Frameworks/R.framework/Resources/bin/R CMD check --install=check:MsFeatures.install-out.txt --library=/Library/Frameworks/R.framework/Resources/library --no-vignettes --timings MsFeatures_1.16.0.tar.gz StartedAt: 2025-04-21 22:05:59 -0400 (Mon, 21 Apr 2025) EndedAt: 2025-04-21 22:08:49 -0400 (Mon, 21 Apr 2025) EllapsedTime: 170.4 seconds RetCode: 0 Status: OK CheckDir: MsFeatures.Rcheck Warnings: 0