Package: MsFeatures Version: 1.16.0 Command: /home/biocbuild/R/R/bin/R CMD INSTALL MsFeatures StartedAt: 2025-10-13 20:35:27 -0000 (Mon, 13 Oct 2025) EndedAt: 2025-10-13 20:35:54 -0000 (Mon, 13 Oct 2025) EllapsedTime: 27.7 seconds RetCode: 0 Status: OK