Package: MsFeatures Version: 1.16.0 Command: /home/biocbuild/R/R/bin/R CMD build --keep-empty-dirs --no-resave-data MsFeatures StartedAt: 2025-10-14 02:49:27 -0000 (Tue, 14 Oct 2025) EndedAt: 2025-10-14 02:50:17 -0000 (Tue, 14 Oct 2025) EllapsedTime: 50.0 seconds RetCode: 0 Status: OK PackageFile: MsFeatures_1.16.0.tar.gz PackageFileSize: 1.217 MiB