Package: MsFeatures Version: 1.16.0 Command: /Library/Frameworks/R.framework/Resources/bin/R CMD INSTALL MsFeatures StartedAt: 2025-10-13 16:26:57 -0400 (Mon, 13 Oct 2025) EndedAt: 2025-10-13 16:27:20 -0400 (Mon, 13 Oct 2025) EllapsedTime: 23.1 seconds RetCode: 0 Status: OK