Package: MsExperiment Version: 1.10.1 Command: rm -rf MsExperiment.buildbin-libdir && mkdir MsExperiment.buildbin-libdir && E:\biocbuild\bbs-3.21-bioc\R\bin\R.exe CMD INSTALL --build --library=MsExperiment.buildbin-libdir MsExperiment_1.10.1.tar.gz StartedAt: 2025-08-15 09:46:44 -0400 (Fri, 15 Aug 2025) EndedAt: 2025-08-15 09:47:46 -0400 (Fri, 15 Aug 2025) EllapsedTime: 62.2 seconds RetCode: 0 Status: OK PackageFile: MsExperiment_1.10.1.zip PackageFileSize: 1.459 MiB