Package: MsDataHub Version: 1.8.0 Command: /Library/Frameworks/R.framework/Resources/bin/R CMD INSTALL MsDataHub StartedAt: 2025-09-29 15:47:55 -0400 (Mon, 29 Sep 2025) EndedAt: 2025-09-29 15:48:26 -0400 (Mon, 29 Sep 2025) EllapsedTime: 31.1 seconds RetCode: 0 Status: OK