Package: MsDataHub Version: 1.8.0 Command: /home/biocbuild/R/R/bin/R CMD INSTALL MsDataHub StartedAt: 2025-09-29 20:41:41 -0000 (Mon, 29 Sep 2025) EndedAt: 2025-09-29 20:42:01 -0000 (Mon, 29 Sep 2025) EllapsedTime: 20.3 seconds RetCode: 0 Status: OK