Package: MsDataHub Version: 1.8.0 Command: /home/biocbuild/R/R/bin/R CMD check --install=check:MsDataHub.install-out.txt --library=/home/biocbuild/R/R/site-library --no-vignettes --timings MsDataHub_1.8.0.tar.gz StartedAt: 2025-09-30 12:07:32 -0000 (Tue, 30 Sep 2025) EndedAt: 2025-09-30 12:09:48 -0000 (Tue, 30 Sep 2025) EllapsedTime: 136.1 seconds RetCode: 0 Status: OK CheckDir: MsDataHub.Rcheck Warnings: 0