Package: MsDataHub Version: 1.8.0 Command: /home/biocbuild/R/R/bin/R CMD build --keep-empty-dirs --no-resave-data MsDataHub StartedAt: 2025-09-30 03:27:31 -0000 (Tue, 30 Sep 2025) EndedAt: 2025-09-30 03:33:25 -0000 (Tue, 30 Sep 2025) EllapsedTime: 354.2 seconds RetCode: 0 Status: OK PackageFile: MsDataHub_1.8.0.tar.gz PackageFileSize: 468.8 KiB