Package: MsCoreUtils Version: 1.20.0 Command: /home/biocbuild/R/R/bin/R CMD INSTALL MsCoreUtils StartedAt: 2025-10-13 20:25:00 -0000 (Mon, 13 Oct 2025) EndedAt: 2025-10-13 20:25:10 -0000 (Mon, 13 Oct 2025) EllapsedTime: 9.3 seconds RetCode: 0 Status: OK