Package: MsCoreUtils Version: 1.20.0 Command: /home/biocbuild/R/R/bin/R CMD check --install=check:MsCoreUtils.install-out.txt --library=/home/biocbuild/R/R/site-library --no-vignettes --timings MsCoreUtils_1.20.0.tar.gz StartedAt: 2025-10-14 11:37:28 -0000 (Tue, 14 Oct 2025) EndedAt: 2025-10-14 11:39:57 -0000 (Tue, 14 Oct 2025) EllapsedTime: 148.2 seconds RetCode: 0 Status: OK CheckDir: MsCoreUtils.Rcheck Warnings: 0