Package: MsCoreUtils Version: 1.20.0 Command: rm -rf MsCoreUtils.buildbin-libdir && mkdir MsCoreUtils.buildbin-libdir && /Users/biocbuild/BBS/utils/build-universal.sh MsCoreUtils_1.20.0.tar.gz /Library/Frameworks/R.framework/Resources/bin/R MsCoreUtils.buildbin-libdir StartedAt: 2025-10-15 19:28:48 -0400 (Wed, 15 Oct 2025) EndedAt: 2025-10-15 19:28:59 -0400 (Wed, 15 Oct 2025) EllapsedTime: 11.3 seconds RetCode: 0 Status: OK PackageFile: MsCoreUtils_1.20.0.tgz PackageFileSize: 536.2 KiB