Package: MsBackendMassbank Version: 1.16.1 Command: /home/biocbuild/bbs-3.21-bioc/R/bin/R CMD check --install=check:MsBackendMassbank.install-out.txt --library=/home/biocbuild/bbs-3.21-bioc/R/site-library --timings MsBackendMassbank_1.16.1.tar.gz StartedAt: 2025-10-16 01:22:29 -0400 (Thu, 16 Oct 2025) EndedAt: 2025-10-16 01:24:11 -0400 (Thu, 16 Oct 2025) EllapsedTime: 101.2 seconds RetCode: 0 Status: OK CheckDir: MsBackendMassbank.Rcheck Warnings: 0