Package: MsBackendMassbank Version: 1.16.1 Command: /home/biocbuild/bbs-3.21-bioc/R/bin/R CMD build --keep-empty-dirs --no-resave-data MsBackendMassbank StartedAt: 2025-10-15 18:42:00 -0400 (Wed, 15 Oct 2025) EndedAt: 2025-10-15 18:42:20 -0400 (Wed, 15 Oct 2025) EllapsedTime: 20.0 seconds RetCode: 0 Status: OK PackageFile: MsBackendMassbank_1.16.1.tar.gz PackageFileSize: 415.1 KiB