Package: MsBackendMassbank Version: 1.16.1 Command: /home/biocbuild/R/R/bin/R CMD INSTALL MsBackendMassbank StartedAt: 2025-10-13 20:26:56 -0000 (Mon, 13 Oct 2025) EndedAt: 2025-10-13 20:27:11 -0000 (Mon, 13 Oct 2025) EllapsedTime: 15.7 seconds RetCode: 0 Status: OK