Package: MsBackendMassbank Version: 1.16.1 Command: /home/biocbuild/R/R/bin/R CMD build --keep-empty-dirs --no-resave-data MsBackendMassbank StartedAt: 2025-10-14 02:48:14 -0000 (Tue, 14 Oct 2025) EndedAt: 2025-10-14 02:48:42 -0000 (Tue, 14 Oct 2025) EllapsedTime: 28.0 seconds RetCode: 0 Status: OK PackageFile: MsBackendMassbank_1.16.1.tar.gz PackageFileSize: 478.3 KiB