Package: MouseFM Version: 1.18.0 Command: /Library/Frameworks/R.framework/Resources/bin/R CMD INSTALL MouseFM StartedAt: 2025-09-29 16:28:38 -0400 (Mon, 29 Sep 2025) EndedAt: 2025-09-29 16:29:17 -0400 (Mon, 29 Sep 2025) EllapsedTime: 39.7 seconds RetCode: 0 Status: OK