Package: MouseFM Version: 1.18.0 Command: /Library/Frameworks/R.framework/Resources/bin/R CMD build --keep-empty-dirs --no-resave-data MouseFM StartedAt: 2025-09-29 20:50:23 -0400 (Mon, 29 Sep 2025) EndedAt: 2025-09-29 20:52:20 -0400 (Mon, 29 Sep 2025) EllapsedTime: 117.6 seconds RetCode: 0 Status: OK PackageFile: MouseFM_1.18.0.tar.gz PackageFileSize: 768.1 KiB