Package: Motif2Site Version: 1.12.0 Command: /Library/Frameworks/R.framework/Resources/bin/R CMD check --install=check:Motif2Site.install-out.txt --library=/Library/Frameworks/R.framework/Resources/library --no-vignettes --timings Motif2Site_1.12.0.tar.gz StartedAt: 2025-04-21 22:02:27 -0400 (Mon, 21 Apr 2025) EndedAt: 2025-04-21 22:12:35 -0400 (Mon, 21 Apr 2025) EllapsedTime: 607.8 seconds RetCode: 0 Status: OK CheckDir: Motif2Site.Rcheck Warnings: 0