Package: MoonlightR Version: 1.34.0 Command: /home/biocbuild/bbs-3.21-bioc/R/bin/R CMD INSTALL MoonlightR StartedAt: 2025-10-15 15:52:29 -0400 (Wed, 15 Oct 2025) EndedAt: 2025-10-15 15:53:20 -0400 (Wed, 15 Oct 2025) EllapsedTime: 51.0 seconds RetCode: 0 Status: OK