Package: MoonlightR Version: 1.34.0 Command: /home/biocbuild/bbs-3.21-bioc/R/bin/R CMD check --install=check:MoonlightR.install-out.txt --library=/home/biocbuild/bbs-3.21-bioc/R/site-library --timings MoonlightR_1.34.0.tar.gz StartedAt: 2025-10-16 01:15:30 -0400 (Thu, 16 Oct 2025) EndedAt: 2025-10-16 01:22:29 -0400 (Thu, 16 Oct 2025) EllapsedTime: 419.4 seconds RetCode: 0 Status: OK CheckDir: MoonlightR.Rcheck Warnings: 0