Package: MoonlightR Version: 1.34.0 Command: /Library/Frameworks/R.framework/Resources/bin/R CMD build --keep-empty-dirs --no-resave-data MoonlightR StartedAt: 2025-10-13 20:43:54 -0400 (Mon, 13 Oct 2025) EndedAt: 2025-10-13 20:49:45 -0400 (Mon, 13 Oct 2025) EllapsedTime: 351.1 seconds RetCode: 0 Status: OK PackageFile: MoonlightR_1.34.0.tar.gz PackageFileSize: 15.56 MiB