Package: MoleculeExperiment Version: 1.8.0 Command: /Library/Frameworks/R.framework/Resources/bin/R CMD check --install=check:MoleculeExperiment.install-out.txt --library=/Library/Frameworks/R.framework/Resources/library --no-vignettes --timings MoleculeExperiment_1.8.0.tar.gz StartedAt: 2025-10-14 06:48:24 -0400 (Tue, 14 Oct 2025) EndedAt: 2025-10-14 07:01:36 -0400 (Tue, 14 Oct 2025) EllapsedTime: 791.5 seconds RetCode: 0 Status: OK CheckDir: MoleculeExperiment.Rcheck Warnings: 0