Package: MoleculeExperiment Version: 1.8.0 Command: rm -rf MoleculeExperiment.buildbin-libdir && mkdir MoleculeExperiment.buildbin-libdir && /Users/biocbuild/BBS/utils/build-universal.sh MoleculeExperiment_1.8.0.tar.gz /Library/Frameworks/R.framework/Resources/bin/R MoleculeExperiment.buildbin-libdir StartedAt: 2025-10-14 14:07:19 -0400 (Tue, 14 Oct 2025) EndedAt: 2025-10-14 14:09:58 -0400 (Tue, 14 Oct 2025) EllapsedTime: 159.5 seconds RetCode: 0 Status: OK PackageFile: MoleculeExperiment_1.8.0.tgz PackageFileSize: 12.59 MiB